BEGIN:VCALENDAR
VERSION:2.0
PRODID:-//Discover The Marianas – Saipan | Tinian | Rota - ECPv6.15.20//NONSGML v1.0//EN
CALSCALE:GREGORIAN
METHOD:PUBLISH
X-ORIGINAL-URL:https://www.mymarianas.com
X-WR-CALDESC:Events for Discover The Marianas – Saipan | Tinian | Rota
REFRESH-INTERVAL;VALUE=DURATION:PT1H
X-Robots-Tag:noindex
X-PUBLISHED-TTL:PT1H
BEGIN:VTIMEZONE
TZID:America/Detroit
BEGIN:DAYLIGHT
TZOFFSETFROM:-0500
TZOFFSETTO:-0400
TZNAME:EDT
DTSTART:20280312T070000
END:DAYLIGHT
BEGIN:STANDARD
TZOFFSETFROM:-0400
TZOFFSETTO:-0500
TZNAME:EST
DTSTART:20281105T060000
END:STANDARD
BEGIN:DAYLIGHT
TZOFFSETFROM:-0500
TZOFFSETTO:-0400
TZNAME:EDT
DTSTART:20290311T070000
END:DAYLIGHT
BEGIN:STANDARD
TZOFFSETFROM:-0400
TZOFFSETTO:-0500
TZNAME:EST
DTSTART:20291104T060000
END:STANDARD
BEGIN:DAYLIGHT
TZOFFSETFROM:-0500
TZOFFSETTO:-0400
TZNAME:EDT
DTSTART:20300310T070000
END:DAYLIGHT
BEGIN:STANDARD
TZOFFSETFROM:-0400
TZOFFSETTO:-0500
TZNAME:EST
DTSTART:20301103T060000
END:STANDARD
END:VTIMEZONE
BEGIN:VEVENT
DTSTART;TZID=America/Detroit:20291110T100000
DTEND;TZID=America/Detroit:20291110T200000
DTSTAMP:20260421T111120
CREATED:20251108T051759Z
LAST-MODIFIED:20251108T051759Z
UID:10001328-1888999200-1889035200@www.mymarianas.com
SUMMARY:Annual Fall Festival by Grace Christian Academy
DESCRIPTION:The Fall Festival will have fall themed foods\, food vendors\, performances from Grace Christian Academy students as well as guest performers like Voice of Marianas\, information and interactive booths from diverse community partners\, a Fall themed Bake-Off judged by the public (open to all)\, a Grill-Master competition hosted by Ina’s Kitchen with Chaina Man as MC\, a line dancing session\, as well as fall themed games\, prizes\, activities\, a maze\, and mini competitions all throughout this fun-filled day. \nThe Fall Festival is a fundraiser\, thus the proceeds from the event will go toward building a new gymnasium and supporting GCA’s ongoing campus improvement efforts. However\, this is not our only goal for the event. We also wish to uplift\, encourage and partner with our island community as a whole\, thus we have many diverse community partners joining the event.
URL:https://www.mymarianas.com/the-marianas-calendar-event/annual-fall-festival-by-grace-christian-academy/2029-11-10/
LOCATION:Garapan Fishing Basin\, Saipan\, 96950\, Northern Mariana Islands
CATEGORIES:Calendar
ORGANIZER;CN="Grace Christian Academy":MAILTO:jharrison.saipan@gca-nmi.net
END:VEVENT
END:VCALENDAR