BEGIN:VCALENDAR
VERSION:2.0
PRODID:-//Discover The Marianas – Saipan | Tinian | Rota - ECPv6.15.20//NONSGML v1.0//EN
CALSCALE:GREGORIAN
METHOD:PUBLISH
X-WR-CALNAME:Discover The Marianas – Saipan | Tinian | Rota
X-ORIGINAL-URL:https://www.mymarianas.com
X-WR-CALDESC:Events for Discover The Marianas – Saipan | Tinian | Rota
REFRESH-INTERVAL;VALUE=DURATION:PT1H
X-Robots-Tag:noindex
X-PUBLISHED-TTL:PT1H
BEGIN:VTIMEZONE
TZID:America/Detroit
BEGIN:DAYLIGHT
TZOFFSETFROM:-0500
TZOFFSETTO:-0400
TZNAME:EDT
DTSTART:20250309T070000
END:DAYLIGHT
BEGIN:STANDARD
TZOFFSETFROM:-0400
TZOFFSETTO:-0500
TZNAME:EST
DTSTART:20251102T060000
END:STANDARD
BEGIN:DAYLIGHT
TZOFFSETFROM:-0500
TZOFFSETTO:-0400
TZNAME:EDT
DTSTART:20260308T070000
END:DAYLIGHT
BEGIN:STANDARD
TZOFFSETFROM:-0400
TZOFFSETTO:-0500
TZNAME:EST
DTSTART:20261101T060000
END:STANDARD
BEGIN:DAYLIGHT
TZOFFSETFROM:-0500
TZOFFSETTO:-0400
TZNAME:EDT
DTSTART:20270314T070000
END:DAYLIGHT
BEGIN:STANDARD
TZOFFSETFROM:-0400
TZOFFSETTO:-0500
TZNAME:EST
DTSTART:20271107T060000
END:STANDARD
END:VTIMEZONE
BEGIN:VEVENT
DTSTART;TZID=America/Detroit:20260321T060000
DTEND;TZID=America/Detroit:20260322T150000
DTSTAMP:20260421T223519
CREATED:20251116T223201Z
LAST-MODIFIED:20251116T223201Z
UID:10001333-1774072800-1774191600@www.mymarianas.com
SUMMARY:Northern Marianas College Annual Golf Open
DESCRIPTION:The Northern Marianas College Foundation is preparing to host its signature event\, the annual Foundation Golf Open\, scheduled Saturday and Sunday\, March 21 and 22\, 2026. \nThe event will open the golf tournament season of 2026\, and it carries special significance because Northern Marianas College will also be commemorating its 45th anniversary in 2026. Since its establishment in 1981\, NMC has been instrumental in educating and preparing the Commonwealth’s workforce\, fostering innovation\, and creating pathways to higher education for thousands of students. As we celebrate this milestone\, we also look ahead with renewed commitment to strengthening NMC’s legacy of excellence and opportunity for future generations. \nProceeds will fund the construction and equipping of modern\, innovative facilities that will strengthen workforce development\, stimulate economic growth\, and expand access to quality education for the people of the CNMI. \nVisit marianas.edu/golf to register to play or for more information.
URL:https://www.mymarianas.com/the-marianas-calendar-event/northern-marianas-college-annual-golf-open/2026-03-21/1/
ATTACH;FMTTYPE=image/png:https://www.mymarianas.com/wp-content/uploads/2025/11/Screenshot-2025-11-13-at-1.53.38-PM.png
ORGANIZER;CN="Northern Marianas College Sports (NMICS)":MAILTO:denise.myers@marianas.edu
END:VEVENT
BEGIN:VEVENT
DTSTART;TZID=America/Detroit:20260321T080000
DTEND;TZID=America/Detroit:20260321T170000
DTSTAMP:20260421T223519
CREATED:20251116T223201Z
LAST-MODIFIED:20251116T223201Z
UID:10001334-1774080000-1774112400@www.mymarianas.com
SUMMARY:Northern Marianas College Annual Golf Open
DESCRIPTION:The Northern Marianas College Foundation is preparing to host its signature event\, the annual Foundation Golf Open\, scheduled Saturday and Sunday\, March 21 and 22\, 2026. \nThe event will open the golf tournament season of 2026\, and it carries special significance because Northern Marianas College will also be commemorating its 45th anniversary in 2026. Since its establishment in 1981\, NMC has been instrumental in educating and preparing the Commonwealth’s workforce\, fostering innovation\, and creating pathways to higher education for thousands of students. As we celebrate this milestone\, we also look ahead with renewed commitment to strengthening NMC’s legacy of excellence and opportunity for future generations. \nProceeds will fund the construction and equipping of modern\, innovative facilities that will strengthen workforce development\, stimulate economic growth\, and expand access to quality education for the people of the CNMI. \nVisit marianas.edu/golf to register to play or for more information.
URL:https://www.mymarianas.com/the-marianas-calendar-event/northern-marianas-college-annual-golf-open/2026-03-21/2/
ATTACH;FMTTYPE=image/png:https://www.mymarianas.com/wp-content/uploads/2025/11/Screenshot-2025-11-13-at-1.53.38-PM.png
ORGANIZER;CN="Northern Marianas College Sports (NMICS)":MAILTO:denise.myers@marianas.edu
END:VEVENT
BEGIN:VEVENT
DTSTART;VALUE=DATE:20260321
DTEND;VALUE=DATE:20260322
DTSTAMP:20260421T223519
CREATED:20260319T040317Z
LAST-MODIFIED:20260323T003039Z
UID:10001430-1774080000-1774112400@www.mymarianas.com
SUMMARY:Music Back to Back
DESCRIPTION:Drink. Dine. Chillax.\nCheck Mama Rio’s Music Back to Back Weekend.\nFriday Nights Karaoke Night\nSaturday Acoustic Open Mic
URL:https://www.mymarianas.com/the-marianas-calendar-event/music-back-to-back/2026-03-21/
LOCATION:MAMA RIO’S CAFE\, Coral Tree Avenue (Across Crowne Plaza Resort & Best Sunshine Bldg)\, Saipan\, MP\, 96950\, Northern Mariana Islands
CATEGORIES:Night Life
ATTACH;FMTTYPE=image/png:https://www.mymarianas.com/wp-content/uploads/2026/03/Screenshot-2026-03-17-190315.png
END:VEVENT
END:VCALENDAR