BEGIN:VCALENDAR
VERSION:2.0
PRODID:-//Discover The Marianas – Saipan | Tinian | Rota - ECPv6.15.20//NONSGML v1.0//EN
CALSCALE:GREGORIAN
METHOD:PUBLISH
X-ORIGINAL-URL:https://www.mymarianas.com
X-WR-CALDESC:Events for Discover The Marianas – Saipan | Tinian | Rota
REFRESH-INTERVAL;VALUE=DURATION:PT1H
X-Robots-Tag:noindex
X-PUBLISHED-TTL:PT1H
BEGIN:VTIMEZONE
TZID:America/Detroit
BEGIN:DAYLIGHT
TZOFFSETFROM:-0500
TZOFFSETTO:-0400
TZNAME:EDT
DTSTART:20250309T070000
END:DAYLIGHT
BEGIN:STANDARD
TZOFFSETFROM:-0400
TZOFFSETTO:-0500
TZNAME:EST
DTSTART:20251102T060000
END:STANDARD
BEGIN:DAYLIGHT
TZOFFSETFROM:-0500
TZOFFSETTO:-0400
TZNAME:EDT
DTSTART:20260308T070000
END:DAYLIGHT
BEGIN:STANDARD
TZOFFSETFROM:-0400
TZOFFSETTO:-0500
TZNAME:EST
DTSTART:20261101T060000
END:STANDARD
BEGIN:DAYLIGHT
TZOFFSETFROM:-0500
TZOFFSETTO:-0400
TZNAME:EDT
DTSTART:20270314T070000
END:DAYLIGHT
BEGIN:STANDARD
TZOFFSETFROM:-0400
TZOFFSETTO:-0500
TZNAME:EST
DTSTART:20271107T060000
END:STANDARD
END:VTIMEZONE
BEGIN:VEVENT
DTSTART;VALUE=DATE:20260103
DTEND;VALUE=DATE:20260104
DTSTAMP:20260423T214333
CREATED:20251226T045453Z
LAST-MODIFIED:20251226T045453Z
UID:10001337-1767398400-1767484799@www.mymarianas.com
SUMMARY:Audubon Christmas Bird Count on Rota
DESCRIPTION:The CNMI Division of Fish and Wildlife is still looking for a few volunteers to assist this year’s Christmas Bird Count on Rota/Luta! \nThis is an all-day event that supports long-term monitoring of the Marianas’ native and migratory bird species. Participants can choose to join us for a 4-5 hour shift in the morning (6am) or afternoon (12pm)\, or both! \nEach team will be lead by a DFW biologist and drive a predetermined route\, counting birds from the car and at several stops along the way. Our survey routes are mostly road-based\, with short easy walks in some areas; there should not be any difficult terrain/hiking. \nWhat to bring:\n\n\nenough food\, water\, snacks and/or a packed lunch\, depending on how long they commit to being in the field\ncomfortable shoes\nsunscreen\, sunglasses/hat\nbinoculars if they have them (DFW has a limited number of extra binoculars that volunteers can borrow)\n\n\nIf you’d like more details or have any questions\, please don’t hesitate to contact the organizer\, Annika Andersson (andersson.cnmi.dfw@gmail.com or 1 670-789-8845.
URL:https://www.mymarianas.com/the-marianas-calendar-event/audubon-christmas-bird-count-on-rota/
ATTACH;FMTTYPE=image/jpeg:https://www.mymarianas.com/wp-content/uploads/2025/12/2025_ROTA-CBC-flyer_updated-for-MVA-calendar.jpg
ORGANIZER;CN="CNMI Division of Fish and Wildlife":MAILTO:andersson.cnmi.dfw@gmail.com
END:VEVENT
END:VCALENDAR