BEGIN:VCALENDAR
VERSION:2.0
PRODID:-//Discover The Marianas – Saipan | Tinian | Rota - ECPv6.15.20//NONSGML v1.0//EN
CALSCALE:GREGORIAN
METHOD:PUBLISH
X-WR-CALNAME:Discover The Marianas – Saipan | Tinian | Rota
X-ORIGINAL-URL:https://www.mymarianas.com
X-WR-CALDESC:Events for Discover The Marianas – Saipan | Tinian | Rota
REFRESH-INTERVAL;VALUE=DURATION:PT1H
X-Robots-Tag:noindex
X-PUBLISHED-TTL:PT1H
BEGIN:VTIMEZONE
TZID:America/Detroit
BEGIN:DAYLIGHT
TZOFFSETFROM:-0500
TZOFFSETTO:-0400
TZNAME:EDT
DTSTART:20240310T070000
END:DAYLIGHT
BEGIN:STANDARD
TZOFFSETFROM:-0400
TZOFFSETTO:-0500
TZNAME:EST
DTSTART:20241103T060000
END:STANDARD
BEGIN:DAYLIGHT
TZOFFSETFROM:-0500
TZOFFSETTO:-0400
TZNAME:EDT
DTSTART:20250309T070000
END:DAYLIGHT
BEGIN:STANDARD
TZOFFSETFROM:-0400
TZOFFSETTO:-0500
TZNAME:EST
DTSTART:20251102T060000
END:STANDARD
BEGIN:DAYLIGHT
TZOFFSETFROM:-0500
TZOFFSETTO:-0400
TZNAME:EDT
DTSTART:20260308T070000
END:DAYLIGHT
BEGIN:STANDARD
TZOFFSETFROM:-0400
TZOFFSETTO:-0500
TZNAME:EST
DTSTART:20261101T060000
END:STANDARD
END:VTIMEZONE
BEGIN:VEVENT
DTSTART;TZID=America/Detroit:20251114T100000
DTEND;TZID=America/Detroit:20251116T160000
DTSTAMP:20260422T235006
CREATED:20251108T052110Z
LAST-MODIFIED:20251108T052110Z
UID:10001322-1763114400-1763308800@www.mymarianas.com
SUMMARY:Veterans Benefits Site Visit
DESCRIPTION:Life Changing CNMI Site Visit: 14-16 November 2025 \nOur Mission in CNMI: Engineered Support for all veterans and family members \nWe will be at several locations throughout this time period. Come see us to talk about your future benefits and family security. If you spent 6 Months or 30 Years in the military service\, regardless of status\, rank\, deployment\, non-deployment\, widow or widower… We are here for you. \nWcarr@lcveteranbenefits.com\ntbarr@lcveteranbenefits.com
URL:https://www.mymarianas.com/the-marianas-calendar-event/veterans-benefits-site-visit/
ATTACH;FMTTYPE=image/png:https://www.mymarianas.com/wp-content/uploads/2025/11/IMG_0708.png
END:VEVENT
END:VCALENDAR