BEGIN:VCALENDAR
VERSION:2.0
PRODID:-//Discover The Marianas – Saipan | Tinian | Rota - ECPv6.15.20//NONSGML v1.0//EN
CALSCALE:GREGORIAN
METHOD:PUBLISH
X-ORIGINAL-URL:https://www.mymarianas.com
X-WR-CALDESC:Events for Discover The Marianas – Saipan | Tinian | Rota
REFRESH-INTERVAL;VALUE=DURATION:PT1H
X-Robots-Tag:noindex
X-PUBLISHED-TTL:PT1H
BEGIN:VTIMEZONE
TZID:America/Detroit
BEGIN:DAYLIGHT
TZOFFSETFROM:-0500
TZOFFSETTO:-0400
TZNAME:EDT
DTSTART:20240310T070000
END:DAYLIGHT
BEGIN:STANDARD
TZOFFSETFROM:-0400
TZOFFSETTO:-0500
TZNAME:EST
DTSTART:20241103T060000
END:STANDARD
BEGIN:DAYLIGHT
TZOFFSETFROM:-0500
TZOFFSETTO:-0400
TZNAME:EDT
DTSTART:20250309T070000
END:DAYLIGHT
BEGIN:STANDARD
TZOFFSETFROM:-0400
TZOFFSETTO:-0500
TZNAME:EST
DTSTART:20251102T060000
END:STANDARD
BEGIN:DAYLIGHT
TZOFFSETFROM:-0500
TZOFFSETTO:-0400
TZNAME:EDT
DTSTART:20260308T070000
END:DAYLIGHT
BEGIN:STANDARD
TZOFFSETFROM:-0400
TZOFFSETTO:-0500
TZNAME:EST
DTSTART:20261101T060000
END:STANDARD
END:VTIMEZONE
BEGIN:VEVENT
DTSTART;TZID=America/Detroit:20251025T170000
DTEND;TZID=America/Detroit:20251025T210000
DTSTAMP:20260422T060856
CREATED:20251007T043305Z
LAST-MODIFIED:20251018T020329Z
UID:10001318-1761411600-1761426000@www.mymarianas.com
SUMMARY:Autumn Festival 2025 presented by the Japanese Society of the NMI
DESCRIPTION:Autumn Festival 2025 welcomes all\, presented by the Japanese Society of the Northern Mariana Islands! \nJoin us for an exciting evening of family fun featuring food vendors\, traditional Japanese games\, raffle prizes\, and a bazaar.  Live stage performances will include J-pop idol group Sky Syllabus from Japan.
URL:https://www.mymarianas.com/the-marianas-calendar-event/autumn-festival-2025-presented-by-the-japanese-society-of-the-nmi/
ATTACH;FMTTYPE=image/jpeg:https://www.mymarianas.com/wp-content/uploads/2025/10/final-2025-Autum-Festival_page-0001.jpg
END:VEVENT
END:VCALENDAR